BEGIN:VCALENDAR
VERSION:2.0
PRODID:-//hacksw/handcal//NONSGML v1.0//EN
BEGIN:VEVENT
DTSTAMP:20231209T160000Z
DTSTART:20231209T160000Z
DTEND:20231209T220000Z

SUMMARY:3rd Annual Hampton Holiday Fine Arts Bazaar
DESCRIPTION:Join us for the third annual Hampton Holiday Fine Arts Bazaar. The opening of the Small Works Exhibition will be accompanied by this two day fine arts bazaar featuring original, handmade works from artists around the region. Come meet the artists and shop for extra special holiday gifts!December 9, 2023 | 11am–5pmDecember 10, 2023 | 11am–3pm
END:VEVENT
END:VCALENDAR