BEGIN:VCALENDAR
VERSION:2.0
PRODID:-//hacksw/handcal//NONSGML v1.0//EN
BEGIN:VEVENT
DTSTAMP:20260214T160000Z
DTSTART:20260214T160000Z
DTEND:20260214T180000Z

SUMMARY:Galapagos George
DESCRIPTION:*In an abundance of caution concerning the upcoming weekend weather, the following event has been postponed:Galapagos George has been postponed to Saturday, February 14, 2026 at 11am.The tickets you currently have will be valid for the new date.HEY KIDS! Here’s an Important Lesson About Man’s Impact Upon the Environment! Based on the true story of "Lonesome George," this show tells the tale of a truly one-on-a-kind tortoise from the Galapagos Islands. Who is George? He is a tortoise, a GIANT GALAPAGOS TORTOISE! Watch George grow up among sea turtles, lizards, hungry goats, sea lions, and dancing birds with blue feet. As you visit his island, you hear the true story of the last tortoise to be found on Pinta Island in the Galapagos archipelago. Fall in love with these islands...and this not-so-little tortoise!This project was supported, in part, by the Virginia Commission for the Arts, which receives support from the Virginia General Assembly.Camera Policy: Professional cameras, video recording devices, and laser pointers are not permitted.
END:VEVENT
END:VCALENDAR