BEGIN:VCALENDAR
VERSION:2.0
PRODID:-//hacksw/handcal//NONSGML v1.0//EN
BEGIN:VEVENT
DTSTAMP:20200216T010000Z
DTSTART:20200216T010000Z
DTEND:20200216T030000Z

SUMMARY:That Golden Girls Show! A Puppet Parody
DESCRIPTION:Picture it! Miami, 1985...Get ready for an evening of laughter, jazzercise, shoulder pads and quick-witted one-liners as The Golden Girls take to the stage — as puppets! That Golden Girls Show! parodies some of your favorite classic episodes. From Sophia&#39;s get-rich-quick schemes and Rose&#39;s tales from St. Olaf to Blanche&#39;s insatiable hunt for men and Dorothy&#39;s daily struggle to make sense of her life, devoted fans will fondly remember our four girls from Miami. And for first-timers, it’s a joyful introduction to the brilliance of the television series.That Golden Girls Show! was an Off-Broadway hit, and now is your chance to catch the girls on the road as you’ve never seen them before!       Additionally, to celebrate Coastal Virginia&#39;s wonderfully diverse community, we are collaborating with Outwire757 to host OUT at The American this season. Whether you&#39;re single, married, or with kids, everyone has a place at The American Theatre. We invite the LGBTQ+ community to meet, mix, mingle and, of course, enjoy a fabulous show!  
END:VEVENT
END:VCALENDAR