BEGIN:VCALENDAR
VERSION:2.0
PRODID:-//hacksw/handcal//NONSGML v1.0//EN
BEGIN:VEVENT
DTSTAMP:20260117T003000Z
DTSTART:20260117T003000Z
DTEND:20260117T023000Z

SUMMARY:Masters of Soul
DESCRIPTION:Celebrating 1960’s Motown! Masters of Soul is America’s favorite celebration of the Motor City’s most iconic vocal artists, their music, and their style. Featuring the Fabulous Crooners Doo-Wop singers and TFC Dance Band. The Crooners stroll pre-show while, after the show, you’ll continue to dance to the best Top 40, Disco, R&B, and Rock n Roll.Masters of Soul performs The Temptations, Gladys Knight & the Pips, Marvin Gaye & Tammi Terrell, Smokey Robinson & The Miracles, The Four Tops, Diana Ross & The Supremes, The Jackson Five, Martha Reeves & The Vandellas, Stevie Wonder, The Commodores, and many more!
END:VEVENT
END:VCALENDAR