BEGIN:VCALENDAR
VERSION:2.0
PRODID:-//hacksw/handcal//NONSGML v1.0//EN
BEGIN:VEVENT
DTSTAMP:20260307T150000Z
DTSTART:20260307T150000Z
DTEND:20260308T030000Z

SUMMARY:Too Much of a Woman Festival 
DESCRIPTION:Amplifying the voices of Virginia’s women in arts, culture and industry—past, present, and future. Our mission is to kick off women’s history month with a platform that celebrates the impact women have made in Virginia and beyond. PERFORMANCES BYHeadline: Joselyn Best, Roberta Lea, & Rebecca Porter Chloe Youtsey The Band Monarch Mayona Stacie Stephens Mari Cornell Denise Battle Price Jackie & Resa Hannah Spaulding Nina Nicholle 10:00 am - 2:00 p.m. Workshops and Panels (Lecture Hall & Dance Studio)10:00 Women in Community (Kate Powell, Anna Heywood Green, Terri Best)11:00 Women in the Arts (Karen Spaulding, Sharon Davidson Cook, Roberta Lea1:00 Women in Business (Sarah Kiah, Natalia Ramos, LaTonya Warren)2:00 p.m. - 5:00 p.m. - Writers Rounds (Studio Theatre)2:00 (Chloe Youtsey, Stacie Stephans, and Jackie and Resa)3:00 (The Band Monarch, Mari Cornell, Hannah Spaulding)4:00 (Mayona, Denise, Nina Nicholle)5:00 p.m. - 10:00 p.m. Performances (Main stage)6:50 (Spoken Word)7:00 (Rebecca Porter)7:45 (Spoken word)8:00 (Joselyn Best)8:45 (Spoken Word)9:00 (Roberta Lea)Camera Policy: Professional cameras, video recording devices, and laser pointers are not permitted.
END:VEVENT
END:VCALENDAR