BEGIN:VCALENDAR
VERSION:2.0
PRODID:-//hacksw/handcal//NONSGML v1.0//EN
BEGIN:VEVENT
DTSTAMP:20260530T233000Z
DTSTART:20260530T233000Z
DTEND:20260531T023000Z

SUMMARY:Wilder Horses - The Ultimate Rolling Stones Experience 
DESCRIPTION:GET READY FOR THE ROLLING STONES! The American Theatre’s Event of the Season – and all proceeds support out 2026 spring season programming. WILDER HORSES recreates the sights, sounds and attitude of the original R & R bad boys, The Rolling Stones. Opening to feature LUCKY 757!*Doors open 1 hour before showtime* 
END:VEVENT
END:VCALENDAR